BEGIN:VCALENDAR
VERSION:2.0
PRODID:-//Twin Cities Chinese Language School - ECPv6.5.1.5//NONSGML v1.0//EN
CALSCALE:GREGORIAN
METHOD:PUBLISH
X-WR-CALNAME:Twin Cities Chinese Language School
X-ORIGINAL-URL:https://twincitiescls.org
X-WR-CALDESC:Events for Twin Cities Chinese Language School
REFRESH-INTERVAL;VALUE=DURATION:PT1H
X-Robots-Tag:noindex
X-PUBLISHED-TTL:PT1H
BEGIN:VTIMEZONE
TZID:America/Chicago
BEGIN:DAYLIGHT
TZOFFSETFROM:-0600
TZOFFSETTO:-0500
TZNAME:CDT
DTSTART:20250309T080000
END:DAYLIGHT
BEGIN:STANDARD
TZOFFSETFROM:-0500
TZOFFSETTO:-0600
TZNAME:CST
DTSTART:20251102T070000
END:STANDARD
END:VTIMEZONE
BEGIN:VEVENT
DTSTART;VALUE=DATE:20251101
DTEND;VALUE=DATE:20251102
DTSTAMP:20260423T165102
CREATED:20250704T050912Z
LAST-MODIFIED:20250704T050912Z
UID:986-1761955200-1762041599@twincitiescls.org
SUMMARY:親師座談會 Parent–Teacher Conferences
DESCRIPTION:
URL:https://twincitiescls.org/event/%e8%a6%aa%e5%b8%ab%e5%ba%a7%e8%ab%87%e6%9c%83-parent-teacher-conferences-2/
END:VEVENT
BEGIN:VEVENT
DTSTART;TZID=America/Chicago:20251025T080000
DTEND;TZID=America/Chicago:20251025T170000
DTSTAMP:20260423T165102
CREATED:20250704T050810Z
LAST-MODIFIED:20250704T050810Z
UID:983-1761379200-1761411600@twincitiescls.org
SUMMARY:期中考 Mid-Term Exam / 萬聖節活動 Halloween Festival
DESCRIPTION:
URL:https://twincitiescls.org/event/%e6%9c%9f%e4%b8%ad%e8%80%83-mid-term-exam-%e8%90%ac%e8%81%96%e7%af%80%e6%b4%bb%e5%8b%95-halloween-festival/
END:VEVENT
BEGIN:VEVENT
DTSTART;VALUE=DATE:20251018
DTEND;VALUE=DATE:20251019
DTSTAMP:20260423T165102
CREATED:20250704T050623Z
LAST-MODIFIED:20250704T050837Z
UID:981-1760745600-1760831999@twincitiescls.org
SUMMARY:全校線上課程 All classes are online / 延伸課程暫停一次 No extension classes
DESCRIPTION:
URL:https://twincitiescls.org/event/%e5%85%a8%e6%a0%a1%e7%b7%9a%e4%b8%8a%e8%aa%b2%e7%a8%8b-all-classes-are-online-2/
END:VEVENT
BEGIN:VEVENT
DTSTART;TZID=America/Chicago:20251011T080000
DTEND;TZID=America/Chicago:20251011T170000
DTSTAMP:20260423T165102
CREATED:20250704T050543Z
LAST-MODIFIED:20250704T050543Z
UID:979-1760169600-1760202000@twincitiescls.org
SUMMARY:校務年會 School Annual Report at 10:30AM
DESCRIPTION:
URL:https://twincitiescls.org/event/%e6%a0%a1%e5%8b%99%e5%b9%b4%e6%9c%83-school-annual-report-at-1030am-2/
END:VEVENT
BEGIN:VEVENT
DTSTART;VALUE=DATE:20251004
DTEND;VALUE=DATE:20251005
DTSTAMP:20260423T165102
CREATED:20250704T050504Z
LAST-MODIFIED:20250704T050504Z
UID:977-1759536000-1759622399@twincitiescls.org
SUMMARY:中秋節活動 Moon Festival Activities
DESCRIPTION:
URL:https://twincitiescls.org/event/%e4%b8%ad%e7%a7%8b%e7%af%80%e6%b4%bb%e5%8b%95-moon-festival-activities-2/
END:VEVENT
BEGIN:VEVENT
DTSTART;VALUE=DATE:20250920
DTEND;VALUE=DATE:20250921
DTSTAMP:20260423T165102
CREATED:20250704T050338Z
LAST-MODIFIED:20250704T050338Z
UID:975-1758326400-1758412799@twincitiescls.org
SUMMARY:延伸課程開始 Extension Class Begin (Total 10 weeks)
DESCRIPTION:
URL:https://twincitiescls.org/event/%e5%bb%b6%e4%bc%b8%e8%aa%b2%e7%a8%8b%e9%96%8b%e5%a7%8b-extension-class-begin-total-10-weeks-2/
END:VEVENT
BEGIN:VEVENT
DTSTART;VALUE=DATE:20250906
DTEND;VALUE=DATE:20250907
DTSTAMP:20260423T165102
CREATED:20250704T043624Z
LAST-MODIFIED:20250704T043624Z
UID:973-1757116800-1757203199@twincitiescls.org
SUMMARY:開學 First Day of School
DESCRIPTION:
URL:https://twincitiescls.org/event/%e9%96%8b%e5%ad%b8-first-day-of-school-2/
END:VEVENT
BEGIN:VEVENT
DTSTART;VALUE=DATE:20250524
DTEND;VALUE=DATE:20250906
DTSTAMP:20260423T165102
CREATED:20240804T053409Z
LAST-MODIFIED:20250704T043351Z
UID:910-1748044800-1757116799@twincitiescls.org
SUMMARY:暑假 Summer Break
DESCRIPTION:
URL:https://twincitiescls.org/event/%e6%9a%91%e5%81%87-summer-break-2/
END:VEVENT
BEGIN:VEVENT
DTSTART;VALUE=DATE:20250517
DTEND;VALUE=DATE:20250518
DTSTAMP:20260423T165102
CREATED:20240804T034850Z
LAST-MODIFIED:20240804T034850Z
UID:908-1747440000-1747526399@twincitiescls.org
SUMMARY:畢業與結業典禮 Graduation & Closing Ceremony
DESCRIPTION:
URL:https://twincitiescls.org/event/%e7%95%a2%e6%a5%ad%e8%88%87%e7%b5%90%e6%a5%ad%e5%85%b8%e7%a6%ae-graduation-closing-ceremony/
END:VEVENT
END:VCALENDAR