BEGIN:VCALENDAR
VERSION:2.0
PRODID:-//Twin Cities Chinese Language School - ECPv6.5.1.5//NONSGML v1.0//EN
CALSCALE:GREGORIAN
METHOD:PUBLISH
X-WR-CALNAME:Twin Cities Chinese Language School
X-ORIGINAL-URL:https://twincitiescls.org
X-WR-CALDESC:Events for Twin Cities Chinese Language School
REFRESH-INTERVAL;VALUE=DURATION:PT1H
X-Robots-Tag:noindex
X-PUBLISHED-TTL:PT1H
BEGIN:VTIMEZONE
TZID:America/Chicago
BEGIN:DAYLIGHT
TZOFFSETFROM:-0600
TZOFFSETTO:-0500
TZNAME:CDT
DTSTART:20260308T080000
END:DAYLIGHT
BEGIN:STANDARD
TZOFFSETFROM:-0500
TZOFFSETTO:-0600
TZNAME:CST
DTSTART:20261101T070000
END:STANDARD
END:VTIMEZONE
BEGIN:VEVENT
DTSTART;VALUE=DATE:20260314
DTEND;VALUE=DATE:20260315
DTSTAMP:20260423T164542
CREATED:20250704T051638Z
LAST-MODIFIED:20250704T051638Z
UID:1009-1773446400-1773532799@twincitiescls.org
SUMMARY:親師座談會 Parent–Teacher Conferences
DESCRIPTION:
URL:https://twincitiescls.org/event/%e8%a6%aa%e5%b8%ab%e5%ba%a7%e8%ab%87%e6%9c%83-parent-teacher-conferences-3/
END:VEVENT
BEGIN:VEVENT
DTSTART;VALUE=DATE:20260321
DTEND;VALUE=DATE:20260322
DTSTAMP:20260423T164542
CREATED:20250704T052506Z
LAST-MODIFIED:20250704T052506Z
UID:1024-1774051200-1774137599@twincitiescls.org
SUMMARY:選舉新董事 (Board Election)
DESCRIPTION:
URL:https://twincitiescls.org/event/%e9%81%b8%e8%88%89%e6%96%b0%e8%91%a3%e4%ba%8b-board-election/
END:VEVENT
BEGIN:VEVENT
DTSTART;VALUE=DATE:20260404
DTEND;VALUE=DATE:20260405
DTSTAMP:20260423T164542
CREATED:20250704T051724Z
LAST-MODIFIED:20250704T051724Z
UID:1011-1775260800-1775347199@twincitiescls.org
SUMMARY:春季語文競賽 Spring Language Contest
DESCRIPTION:
URL:https://twincitiescls.org/event/%e6%98%a5%e5%ad%a3%e8%aa%9e%e6%96%87%e7%ab%b6%e8%b3%bd-spring-language-contest-2/
END:VEVENT
BEGIN:VEVENT
DTSTART;VALUE=DATE:20260411
DTEND;VALUE=DATE:20260412
DTSTAMP:20260423T164542
CREATED:20250704T051804Z
LAST-MODIFIED:20250704T051804Z
UID:1013-1775865600-1775951999@twincitiescls.org
SUMMARY:春假 Spring Break
DESCRIPTION:
URL:https://twincitiescls.org/event/%e6%98%a5%e5%81%87-spring-break-2/
END:VEVENT
BEGIN:VEVENT
DTSTART;VALUE=DATE:20260418
DTEND;VALUE=DATE:20260419
DTSTAMP:20260423T164542
CREATED:20250704T051836Z
LAST-MODIFIED:20250704T051836Z
UID:1015-1776470400-1776556799@twincitiescls.org
SUMMARY:延伸課程結束Extension Class End
DESCRIPTION:
URL:https://twincitiescls.org/event/%e5%bb%b6%e4%bc%b8%e8%aa%b2%e7%a8%8b%e7%b5%90%e6%9d%9fextension-class-end-2/
END:VEVENT
BEGIN:VEVENT
DTSTART;VALUE=DATE:20260509
DTEND;VALUE=DATE:20260510
DTSTAMP:20260423T164542
CREATED:20250704T051908Z
LAST-MODIFIED:20250704T051908Z
UID:1017-1778284800-1778371199@twincitiescls.org
SUMMARY:期末考 (Final Exam)
DESCRIPTION:
URL:https://twincitiescls.org/event/%e6%9c%9f%e6%9c%ab%e8%80%83-final-exam-3/
END:VEVENT
BEGIN:VEVENT
DTSTART;VALUE=DATE:20260516
DTEND;VALUE=DATE:20260517
DTSTAMP:20260423T164542
CREATED:20250704T051957Z
LAST-MODIFIED:20250704T051957Z
UID:1020-1778889600-1778975999@twincitiescls.org
SUMMARY:畢業與結業典禮 Graduation & Closing Ceremony
DESCRIPTION:
URL:https://twincitiescls.org/event/%e7%95%a2%e6%a5%ad%e8%88%87%e7%b5%90%e6%a5%ad%e5%85%b8%e7%a6%ae-graduation-closing-ceremony-2/
END:VEVENT
BEGIN:VEVENT
DTSTART;VALUE=DATE:20260517
DTEND;VALUE=DATE:20260905
DTSTAMP:20260423T164542
CREATED:20250704T052053Z
LAST-MODIFIED:20250704T052053Z
UID:1022-1778976000-1788566399@twincitiescls.org
SUMMARY:暑假 Summer Break
DESCRIPTION:
URL:https://twincitiescls.org/event/%e6%9a%91%e5%81%87-summer-break/
END:VEVENT
END:VCALENDAR