BEGIN:VCALENDAR
VERSION:2.0
PRODID:-//Twin Cities Chinese Language School - ECPv6.5.1.5//NONSGML v1.0//EN
CALSCALE:GREGORIAN
METHOD:PUBLISH
X-ORIGINAL-URL:https://twincitiescls.org
X-WR-CALDESC:Events for Twin Cities Chinese Language School
REFRESH-INTERVAL;VALUE=DURATION:PT1H
X-Robots-Tag:noindex
X-PUBLISHED-TTL:PT1H
BEGIN:VTIMEZONE
TZID:America/Chicago
BEGIN:DAYLIGHT
TZOFFSETFROM:-0600
TZOFFSETTO:-0500
TZNAME:CDT
DTSTART:20260308T080000
END:DAYLIGHT
BEGIN:STANDARD
TZOFFSETFROM:-0500
TZOFFSETTO:-0600
TZNAME:CST
DTSTART:20261101T070000
END:STANDARD
END:VTIMEZONE
BEGIN:VEVENT
DTSTART;VALUE=DATE:20260307
DTEND;VALUE=DATE:20260308
DTSTAMP:20260423T151015
CREATED:20250704T051534Z
LAST-MODIFIED:20250704T051534Z
UID:1006-1772841600-1772927999@twincitiescls.org
SUMMARY:期中考 (Mid-Term Exam)
DESCRIPTION:
URL:https://twincitiescls.org/event/%e6%9c%9f%e4%b8%ad%e8%80%83-mid-term-exam-2/
END:VEVENT
END:VCALENDAR