BEGIN:VCALENDAR
VERSION:2.0
PRODID:-//Twin Cities Chinese Language School - ECPv6.5.1.5//NONSGML v1.0//EN
CALSCALE:GREGORIAN
METHOD:PUBLISH
X-WR-CALNAME:Twin Cities Chinese Language School
X-ORIGINAL-URL:https://twincitiescls.org
X-WR-CALDESC:Events for Twin Cities Chinese Language School
REFRESH-INTERVAL;VALUE=DURATION:PT1H
X-Robots-Tag:noindex
X-PUBLISHED-TTL:PT1H
BEGIN:VTIMEZONE
TZID:America/Chicago
BEGIN:DAYLIGHT
TZOFFSETFROM:-0600
TZOFFSETTO:-0500
TZNAME:CDT
DTSTART:20250309T080000
END:DAYLIGHT
BEGIN:STANDARD
TZOFFSETFROM:-0500
TZOFFSETTO:-0600
TZNAME:CST
DTSTART:20251102T070000
END:STANDARD
END:VTIMEZONE
BEGIN:VEVENT
DTSTART;VALUE=DATE:20251220
DTEND;VALUE=DATE:20251221
DTSTAMP:20260423T203623
CREATED:20250704T051145Z
LAST-MODIFIED:20250704T051145Z
UID:996-1766188800-1766275199@twincitiescls.org
SUMMARY:照常上課 (Last day of Fall)
DESCRIPTION:
URL:https://twincitiescls.org/event/%e7%85%a7%e5%b8%b8%e4%b8%8a%e8%aa%b2-last-day-of-fall/
END:VEVENT
END:VCALENDAR